BEGIN:VCALENDAR
VERSION:2.0
PRODID:icalendar-ruby
CALSCALE:GREGORIAN
METHOD:PUBLISH
X-WR-CALNAME:Winchester Curling Club: Draws
BEGIN:VTIMEZONE
TZID:America/New_York
BEGIN:DAYLIGHT
DTSTART:20260308T030000
TZOFFSETFROM:-0500
TZOFFSETTO:-0400
RRULE:FREQ=YEARLY;BYDAY=2SU;BYMONTH=3
TZNAME:EDT
END:DAYLIGHT
BEGIN:STANDARD
DTSTART:20261101T010000
TZOFFSETFROM:-0400
TZOFFSETTO:-0500
RRULE:FREQ=YEARLY;BYDAY=1SU;BYMONTH=11
TZNAME:EST
END:STANDARD
END:VTIMEZONE
BEGIN:VEVENT
DTSTAMP:20260421T113719Z
UID:drawid:185722
DTSTART:20251016T184500
DTEND:20251016T204500
DESCRIPTION:Glace 1: Janets v Spruit\, Glace 2: Bill Hogaboam v Team Roach/
 Koch\, Glace 3: Chamberlain v Lillico
LOCATION:587 Main St W\, Winchester\, K0C 2K0\, ON\, CA
SEQUENCE:1776771439
SUMMARY:Thursday Night Fixed
URL;VALUE=URI:https://winchester.curling.io/fr/events/25173-thursday-night-
 fixed/widget
END:VEVENT
BEGIN:VEVENT
DTSTAMP:20260421T113719Z
UID:drawid:186001
DTSTART:20251016T203000
DTEND:20251016T223000
DESCRIPTION:Glace 1: Fancy Pants v Ramos\, Glace 2: Guy v Joelle Menard\, G
 lace 3: Team Young Vedd v Russell
LOCATION:587 Main St W\, Winchester\, K0C 2K0\, ON\, CA
SEQUENCE:1776771439
SUMMARY:Thursday Night Fixed
URL;VALUE=URI:https://winchester.curling.io/fr/events/25173-thursday-night-
 fixed/widget
END:VEVENT
BEGIN:VEVENT
DTSTAMP:20260421T113719Z
UID:drawid:186002
DTSTART:20251023T184500
DTEND:20251023T204500
DESCRIPTION:Glace 1: Fancy Pants v Guy\, Glace 2: Ramos v Russell\, Glace 3
 : Joelle Menard v Team Young Vedd
LOCATION:587 Main St W\, Winchester\, K0C 2K0\, ON\, CA
SEQUENCE:1776771439
SUMMARY:Thursday Night Fixed
URL;VALUE=URI:https://winchester.curling.io/fr/events/25173-thursday-night-
 fixed/widget
END:VEVENT
BEGIN:VEVENT
DTSTAMP:20260421T113719Z
UID:drawid:185725
DTSTART:20251023T203000
DTEND:20251023T223000
DESCRIPTION:Glace 1: Bill Hogaboam v Spruit\, Glace 2: Lillico v Team Roach
 /Koch\, Glace 3: Chamberlain v Janets
LOCATION:587 Main St W\, Winchester\, K0C 2K0\, ON\, CA
SEQUENCE:1776771439
SUMMARY:Thursday Night Fixed
URL;VALUE=URI:https://winchester.curling.io/fr/events/25173-thursday-night-
 fixed/widget
END:VEVENT
BEGIN:VEVENT
DTSTAMP:20260421T113719Z
UID:drawid:185726
DTSTART:20251030T184500
DTEND:20251030T204500
DESCRIPTION:Glace 1: Janets v Lillico\, Glace 2: Bill Hogaboam v Chamberlai
 n\, Glace 3: Spruit v Team Roach/Koch
LOCATION:587 Main St W\, Winchester\, K0C 2K0\, ON\, CA
SEQUENCE:1776771439
SUMMARY:Thursday Night Fixed
URL;VALUE=URI:https://winchester.curling.io/fr/events/25173-thursday-night-
 fixed/widget
END:VEVENT
BEGIN:VEVENT
DTSTAMP:20260421T113719Z
UID:drawid:186003
DTSTART:20251030T203000
DTEND:20251030T223000
DESCRIPTION:Glace 1: Joelle Menard v Ramos\, Glace 2: Fancy Pants v Russell
 \, Glace 3: Guy v Team Young Vedd
LOCATION:587 Main St W\, Winchester\, K0C 2K0\, ON\, CA
SEQUENCE:1776771439
SUMMARY:Thursday Night Fixed
URL;VALUE=URI:https://winchester.curling.io/fr/events/25173-thursday-night-
 fixed/widget
END:VEVENT
BEGIN:VEVENT
DTSTAMP:20260421T113719Z
UID:drawid:186004
DTSTART:20251106T184500
DTEND:20251106T204500
DESCRIPTION:Glace 1: Guy v Russell\, Glace 2: Ramos v Team Young Vedd\, Gla
 ce 3: Fancy Pants v Joelle Menard
LOCATION:587 Main St W\, Winchester\, K0C 2K0\, ON\, CA
SEQUENCE:1776771439
SUMMARY:Thursday Night Fixed
URL;VALUE=URI:https://winchester.curling.io/fr/events/25173-thursday-night-
 fixed/widget
END:VEVENT
BEGIN:VEVENT
DTSTAMP:20260421T113719Z
UID:drawid:185729
DTSTART:20251106T203000
DTEND:20251106T223000
DESCRIPTION:Glace 1: Chamberlain v Team Roach/Koch (2)\, Glace 2: Bill Hoga
 boam v Janets (2)\, Glace 3: Lillico v Spruit (2)
LOCATION:587 Main St W\, Winchester\, K0C 2K0\, ON\, CA
SEQUENCE:1776771439
SUMMARY:Thursday Night Fixed
URL;VALUE=URI:https://winchester.curling.io/fr/events/25173-thursday-night-
 fixed/widget
END:VEVENT
BEGIN:VEVENT
DTSTAMP:20260421T113719Z
UID:drawid:185733
DTSTART:20251113T184500
DTEND:20251113T204500
DESCRIPTION:Glace 1: Bill Hogaboam v Lillico (3)\, Glace 2: Chamberlain v S
 pruit (3)\, Glace 3: Janets v Team Roach/Koch (3)
LOCATION:587 Main St W\, Winchester\, K0C 2K0\, ON\, CA
SEQUENCE:1776771439
SUMMARY:Thursday Night Fixed
URL;VALUE=URI:https://winchester.curling.io/fr/events/25173-thursday-night-
 fixed/widget
END:VEVENT
BEGIN:VEVENT
DTSTAMP:20260421T113719Z
UID:drawid:186206
DTSTART:20251113T203000
DTEND:20251113T223000
DESCRIPTION:Glace 1: Fancy Pants v Team Young Vedd\, Glace 2: Guy v Ramos (
 6)\, Glace 3: Joelle Menard v Russell (2)
LOCATION:587 Main St W\, Winchester\, K0C 2K0\, ON\, CA
SEQUENCE:1776771439
SUMMARY:Thursday Night Fixed
URL;VALUE=URI:https://winchester.curling.io/fr/events/25173-thursday-night-
 fixed/widget
END:VEVENT
END:VCALENDAR
